BEGIN:VCALENDAR
VERSION:2.0
PRODID:-//Janowski Ośrodek Kultury - ECPv6.15.17//NONSGML v1.0//EN
CALSCALE:GREGORIAN
METHOD:PUBLISH
X-WR-CALNAME:Janowski Ośrodek Kultury
X-ORIGINAL-URL:https://jokjanow.pl
X-WR-CALDESC:Wydarzenia dla Janowski Ośrodek Kultury
REFRESH-INTERVAL;VALUE=DURATION:PT1H
X-Robots-Tag:noindex
X-PUBLISHED-TTL:PT1H
BEGIN:VTIMEZONE
TZID:Europe/Warsaw
BEGIN:DAYLIGHT
TZOFFSETFROM:+0100
TZOFFSETTO:+0200
TZNAME:CEST
DTSTART:20240331T010000
END:DAYLIGHT
BEGIN:STANDARD
TZOFFSETFROM:+0200
TZOFFSETTO:+0100
TZNAME:CET
DTSTART:20241027T010000
END:STANDARD
BEGIN:DAYLIGHT
TZOFFSETFROM:+0100
TZOFFSETTO:+0200
TZNAME:CEST
DTSTART:20250330T010000
END:DAYLIGHT
BEGIN:STANDARD
TZOFFSETFROM:+0200
TZOFFSETTO:+0100
TZNAME:CET
DTSTART:20251026T010000
END:STANDARD
BEGIN:DAYLIGHT
TZOFFSETFROM:+0100
TZOFFSETTO:+0200
TZNAME:CEST
DTSTART:20260329T010000
END:DAYLIGHT
BEGIN:STANDARD
TZOFFSETFROM:+0200
TZOFFSETTO:+0100
TZNAME:CET
DTSTART:20261025T010000
END:STANDARD
END:VTIMEZONE
BEGIN:VEVENT
DTSTART;TZID=Europe/Warsaw:20251206T130000
DTEND;TZID=Europe/Warsaw:20251208T130000
DTSTAMP:20260422T003620
CREATED:20251124T160304Z
LAST-MODIFIED:20251201T094836Z
UID:16189-1765026000-1765198800@jokjanow.pl
SUMMARY:Zwierzogród 2
DESCRIPTION:06 XII 13:00 2D\n07 XII 13:00 2D\nbilet 20 zł (ulg. 18zł)\nb/o (dubbing)\nUSA 2025 Animacja\, Komedia\, Przygodowy. 1 godz. 47 min.
URL:https://jokjanow.pl/wydarzenia/zwierzogrod-2/
LOCATION:Janowski Ośrodek Kultury\, ul. Jana Pawła II 3\, Janów Lubelski\, Lubelskie\, 23-300\, Poland
CATEGORIES:Kino
ATTACH;FMTTYPE=image/webp:https://jokjanow.pl/wp-content/uploads/2025/11/8214879.10.webp
ORGANIZER;CN="Janowski O%C5%9Brodek Kultury":MAILTO:jok_janowl@op.pl
END:VEVENT
BEGIN:VEVENT
DTSTART;TZID=Europe/Warsaw:20251206T150000
DTEND;TZID=Europe/Warsaw:20251208T150000
DTSTAMP:20260422T003620
CREATED:20251124T160410Z
LAST-MODIFIED:20251201T095152Z
UID:16194-1765033200-1765206000@jokjanow.pl
SUMMARY:Zwierzogród 2
DESCRIPTION:06 XII 15:00 2D\n07 XII 15:00 2D\nbilet 20 zł (ulg. 18zł)\nb/o (dubbing)\nUSA 2025 Animacja\, Komedia\, Przygodowy. 1 godz. 47 min.
URL:https://jokjanow.pl/wydarzenia/zwierzogrod-2-2/
LOCATION:Janowski Ośrodek Kultury\, ul. Jana Pawła II 3\, Janów Lubelski\, Lubelskie\, 23-300\, Poland
CATEGORIES:Kino
ATTACH;FMTTYPE=image/webp:https://jokjanow.pl/wp-content/uploads/2025/11/8214879.10.webp
ORGANIZER;CN="Janowski O%C5%9Brodek Kultury":MAILTO:jok_janowl@op.pl
END:VEVENT
BEGIN:VEVENT
DTSTART;TZID=Europe/Warsaw:20251206T170000
DTEND;TZID=Europe/Warsaw:20251208T170000
DTSTAMP:20260422T003620
CREATED:20251124T160516Z
LAST-MODIFIED:20251201T094952Z
UID:16190-1765040400-1765213200@jokjanow.pl
SUMMARY:Zwierzogród 2
DESCRIPTION:06 XII 17:00 2D\n07 XII 17:00 2D\nbilet 20 zł (ulg. 18zł)\nb/o (dubbing)\nUSA 2025 Animacja\, Komedia\, Przygodowy. 1 godz. 47 min.
URL:https://jokjanow.pl/wydarzenia/zwierzogrod-2-3/
LOCATION:Janowski Ośrodek Kultury\, ul. Jana Pawła II 3\, Janów Lubelski\, Lubelskie\, 23-300\, Poland
CATEGORIES:Kino
ATTACH;FMTTYPE=image/webp:https://jokjanow.pl/wp-content/uploads/2025/11/8214879.10.webp
ORGANIZER;CN="Janowski O%C5%9Brodek Kultury":MAILTO:jok_janowl@op.pl
END:VEVENT
END:VCALENDAR